BEGIN:VCALENDAR
VERSION:2.0
PRODID:-//Affligemse Recreatiesporters - ECPv6.15.20//NONSGML v1.0//EN
CALSCALE:GREGORIAN
METHOD:PUBLISH
X-WR-CALNAME:Affligemse Recreatiesporters
X-ORIGINAL-URL:https://a-r-s.be
X-WR-CALDESC:Events voor Affligemse Recreatiesporters
REFRESH-INTERVAL;VALUE=DURATION:PT1H
X-Robots-Tag:noindex
X-PUBLISHED-TTL:PT1H
BEGIN:VTIMEZONE
TZID:UTC
BEGIN:STANDARD
TZOFFSETFROM:+0000
TZOFFSETTO:+0000
TZNAME:UTC
DTSTART:20240101T000000
END:STANDARD
END:VTIMEZONE
BEGIN:VEVENT
DTSTART;TZID=UTC:20250615T133000
DTEND;TZID=UTC:20250615T170000
DTSTAMP:20260420T065911
CREATED:20250420T191007Z
LAST-MODIFIED:20250615T095431Z
UID:2717-1749994200-1750006800@a-r-s.be
SUMMARY:13de Affligemloop 2025
DESCRIPTION:De Affligemse recreatiesporters nodigen jullie uit op de 13de Affligemloop! \nEr zijn geen voorinschrijvingen. \nEr zal een springkasteel zijn voor de kleinsten met dank aan CM. \n  \nHieronder kan u de routes vinden \n(klik op de afbeeldingen voor een gedetailleerde weergave) \nDe route voor de 5km: \n \nDe route voor de 7km en de 14km (14km = 2 keer de 7 km): \n \nDe route voor wandeling: \n \n 
URL:https://a-r-s.be/event/13de-affligemloop-2025/
LOCATION:Gemeentelijke Cultuurzaal\, Bellestraat 99\, Affligem\, 1770\, Belgium
END:VEVENT
END:VCALENDAR