BEGIN:VCALENDAR
VERSION:2.0
PRODID:-//Affligemse Recreatiesporters - ECPv6.15.20//NONSGML v1.0//EN
CALSCALE:GREGORIAN
METHOD:PUBLISH
X-ORIGINAL-URL:https://a-r-s.be
X-WR-CALDESC:Events voor Affligemse Recreatiesporters
REFRESH-INTERVAL;VALUE=DURATION:PT1H
X-Robots-Tag:noindex
X-PUBLISHED-TTL:PT1H
BEGIN:VTIMEZONE
TZID:UTC
BEGIN:STANDARD
TZOFFSETFROM:+0000
TZOFFSETTO:+0000
TZNAME:UTC
DTSTART:20250101T000000
END:STANDARD
END:VTIMEZONE
BEGIN:VEVENT
DTSTART;TZID=UTC:20260607T093000
DTEND;TZID=UTC:20260607T113000
DTSTAMP:20260419T165309
CREATED:20251229T102157Z
LAST-MODIFIED:20251229T102157Z
UID:3216-1780824600-1780831800@a-r-s.be
SUMMARY:Diploma loop/wandeling
DESCRIPTION:Uitreiking diploma loop/wandeling te Liedekerke bos.
URL:https://a-r-s.be/event/diploma-loop-wandeling/
LOCATION:Liedekerke bos
END:VEVENT
END:VCALENDAR