BEGIN:VCALENDAR
VERSION:2.0
PRODID:-//Affligemse Recreatiesporters - ECPv6.15.20//NONSGML v1.0//EN
CALSCALE:GREGORIAN
METHOD:PUBLISH
X-WR-CALNAME:Affligemse Recreatiesporters
X-ORIGINAL-URL:https://a-r-s.be
X-WR-CALDESC:Events voor Affligemse Recreatiesporters
REFRESH-INTERVAL;VALUE=DURATION:PT1H
X-Robots-Tag:noindex
X-PUBLISHED-TTL:PT1H
BEGIN:VTIMEZONE
TZID:UTC
BEGIN:STANDARD
TZOFFSETFROM:+0000
TZOFFSETTO:+0000
TZNAME:UTC
DTSTART:20220101T000000
END:STANDARD
END:VTIMEZONE
BEGIN:VEVENT
DTSTART;TZID=UTC:20241012T120000
DTEND;TZID=UTC:20241012T213000
DTSTAMP:20260420T025108
CREATED:20240912T091951Z
LAST-MODIFIED:20240912T092149Z
UID:2340-1728734400-1728768600@a-r-s.be
SUMMARY:Spaghettislag 2024
DESCRIPTION:Beste leden en sympathisanten\, \nIedereen van harte welkom op onze spaghettislag op zaterdag 12 oktober 2024.
URL:https://a-r-s.be/event/spaghettislag-2024/
LOCATION:Parochiezaal Essene\, Assestraat 2\, Affligem\, 1790\, Belgium
END:VEVENT
BEGIN:VEVENT
DTSTART;TZID=UTC:20240929T080000
DTEND;TZID=UTC:20240929T170000
DTSTAMP:20260420T025108
CREATED:20240729T101100Z
LAST-MODIFIED:20240729T101701Z
UID:2308-1727596800-1727629200@a-r-s.be
SUMMARY:ARS Criterium Bosmarathon Buggenhout
DESCRIPTION:
URL:https://a-r-s.be/event/ars-criterium/
END:VEVENT
BEGIN:VEVENT
DTSTART;VALUE=DATE:20240908
DTEND;VALUE=DATE:20240909
DTSTAMP:20260420T025108
CREATED:20240729T100018Z
LAST-MODIFIED:20240729T100018Z
UID:2306-1725753600-1725839999@a-r-s.be
SUMMARY:ARS Criterium Stratenloop Haaltert
DESCRIPTION:
URL:https://a-r-s.be/event/ars-criterium-stratenloop-haaltert/
END:VEVENT
BEGIN:VEVENT
DTSTART;VALUE=DATE:20240831
DTEND;VALUE=DATE:20240901
DTSTAMP:20260420T025108
CREATED:20240729T095502Z
LAST-MODIFIED:20240729T095502Z
UID:2303-1725062400-1725148799@a-r-s.be
SUMMARY:ARS Criterium Chicken run Meldert
DESCRIPTION:
URL:https://a-r-s.be/event/ars-criterium-chicken-run-meldert/
END:VEVENT
BEGIN:VEVENT
DTSTART;TZID=UTC:20240728T080000
DTEND;TZID=UTC:20240728T170000
DTSTAMP:20260420T025108
CREATED:20240702T091647Z
LAST-MODIFIED:20240702T092230Z
UID:2288-1722153600-1722186000@a-r-s.be
SUMMARY:ARS criterium  Heideloop Londerzeel
DESCRIPTION:
URL:https://a-r-s.be/event/ars-criterium-heideloop-londerzeel/
END:VEVENT
BEGIN:VEVENT
DTSTART;VALUE=DATE:20240727
DTEND;VALUE=DATE:20240728
DTSTAMP:20260420T025108
CREATED:20240618T094531Z
LAST-MODIFIED:20240702T092142Z
UID:2274-1722038400-1722124799@a-r-s.be
SUMMARY:ARS Criterium Ulrikse 10
DESCRIPTION:
URL:https://a-r-s.be/event/ars-criterium-ulrikse-10/
END:VEVENT
BEGIN:VEVENT
DTSTART;VALUE=DATE:20240721
DTEND;VALUE=DATE:20240722
DTSTAMP:20260420T025108
CREATED:20240618T094019Z
LAST-MODIFIED:20240702T092808Z
UID:2272-1721520000-1721606399@a-r-s.be
SUMMARY:ARS criterium  Dender en Schelde jogging
DESCRIPTION:
URL:https://a-r-s.be/event/ars-criterium-dender-en-schelde-jogging/
END:VEVENT
BEGIN:VEVENT
DTSTART;VALUE=DATE:20240706
DTEND;VALUE=DATE:20240707
DTSTAMP:20260420T025108
CREATED:20240606T190454Z
LAST-MODIFIED:20240606T190454Z
UID:2266-1720224000-1720310399@a-r-s.be
SUMMARY:ARS CRITERIUM Guldensporen jogging
DESCRIPTION:
URL:https://a-r-s.be/event/ars-criterium-guldensporen-jogging/
END:VEVENT
BEGIN:VEVENT
DTSTART;VALUE=DATE:20240622
DTEND;VALUE=DATE:20240623
DTSTAMP:20260420T025108
CREATED:20240606T185952Z
LAST-MODIFIED:20240606T185952Z
UID:2263-1719014400-1719100799@a-r-s.be
SUMMARY:ARSCRITERIUM Achilles natuurloop Opwijk
DESCRIPTION:
URL:https://a-r-s.be/event/arscriterium-achilles-natuurloop-opwijk/
END:VEVENT
BEGIN:VEVENT
DTSTART;VALUE=DATE:20240614
DTEND;VALUE=DATE:20240615
DTSTAMP:20260420T025108
CREATED:20240520T143804Z
LAST-MODIFIED:20240606T190258Z
UID:2250-1718323200-1718409599@a-r-s.be
SUMMARY:ARSCRITERIUM Jogging Relegem
DESCRIPTION:
URL:https://a-r-s.be/event/arscriteriumjogging-relegem/
END:VEVENT
BEGIN:VEVENT
DTSTART;TZID=UTC:20240602T080000
DTEND;TZID=UTC:20240602T170000
DTSTAMP:20260420T025108
CREATED:20240520T142842Z
LAST-MODIFIED:20240520T142842Z
UID:2248-1717315200-1717347600@a-r-s.be
SUMMARY:ARSCRITERIUM FALUINTJESJOGGING
DESCRIPTION:
URL:https://a-r-s.be/event/arscriterium-faluintjesjogging/
END:VEVENT
BEGIN:VEVENT
DTSTART;VALUE=DATE:20240601
DTEND;VALUE=DATE:20240602
DTSTAMP:20260420T025108
CREATED:20240508T113313Z
LAST-MODIFIED:20240508T113313Z
UID:2234-1717200000-1717286399@a-r-s.be
SUMMARY:ARS CRITERIUM T'HOL OP 1 JUNI
DESCRIPTION:
URL:https://a-r-s.be/event/ars-criterium-thol-op-1-juni/
END:VEVENT
BEGIN:VEVENT
DTSTART;VALUE=DATE:20240512
DTEND;VALUE=DATE:20240513
DTSTAMP:20260420T025108
CREATED:20240507T180708Z
LAST-MODIFIED:20240508T110928Z
UID:2230-1715472000-1715558399@a-r-s.be
SUMMARY:ARS CRITERIUM PLANTENTUINJOGGING 12MEI MEISE
DESCRIPTION:
URL:https://a-r-s.be/event/plantentuinjogging-12mei-meise/
END:VEVENT
BEGIN:VEVENT
DTSTART;VALUE=DATE:20240509
DTEND;VALUE=DATE:20240510
DTSTAMP:20260420T025108
CREATED:20240507T180053Z
LAST-MODIFIED:20240507T180053Z
UID:2226-1715212800-1715299199@a-r-s.be
SUMMARY:ARS CRITERIUM 9 MEI DENDERLOOP
DESCRIPTION:
URL:https://a-r-s.be/event/ars-criterium-9-mei-denderloop/
END:VEVENT
BEGIN:VEVENT
DTSTART;TZID=UTC:20240507T080000
DTEND;TZID=UTC:20240507T170000
DTSTAMP:20260420T025108
CREATED:20240507T180511Z
LAST-MODIFIED:20240507T180511Z
UID:2228-1715068800-1715101200@a-r-s.be
SUMMARY:ARS CRITERIUM12MEI PLANTENTUINJOGGING MEISE
DESCRIPTION:
URL:https://a-r-s.be/event/ars-criterium12mei-plantentuinjogging-meise/
END:VEVENT
BEGIN:VEVENT
DTSTART;VALUE=DATE:20240505
DTEND;VALUE=DATE:20240506
DTSTAMP:20260420T025108
CREATED:20240422T095322Z
LAST-MODIFIED:20240422T095322Z
UID:2174-1714867200-1714953599@a-r-s.be
SUMMARY:ARScriterium 2024 Dwars door Ninove
DESCRIPTION:
URL:https://a-r-s.be/event/arscriterium-2024-dwars-door-ninove/
END:VEVENT
BEGIN:VEVENT
DTSTART;VALUE=DATE:20240505
DTEND;VALUE=DATE:20240506
DTSTAMP:20260420T025108
CREATED:20240422T094802Z
LAST-MODIFIED:20240422T095441Z
UID:2172-1714867200-1714953599@a-r-s.be
SUMMARY:ARS criterium 2024Jogging Beersel
DESCRIPTION:
URL:https://a-r-s.be/event/ars-criterium-2024jogging-beersel-5-mei/
END:VEVENT
BEGIN:VEVENT
DTSTART;VALUE=DATE:20240504
DTEND;VALUE=DATE:20240505
DTSTAMP:20260420T025108
CREATED:20240415T163855Z
LAST-MODIFIED:20240416T065605Z
UID:2088-1714780800-1714867199@a-r-s.be
SUMMARY:ARS criterium 2024 Brassersrun Schepdaal
DESCRIPTION:
URL:https://a-r-s.be/event/brassersrun-schepdaal/
END:VEVENT
BEGIN:VEVENT
DTSTART;VALUE=DATE:20240426
DTEND;VALUE=DATE:20240427
DTSTAMP:20260420T025108
CREATED:20240327T161742Z
LAST-MODIFIED:20240327T161742Z
UID:2054-1714089600-1714175999@a-r-s.be
SUMMARY:ARS criterium 2024 De bloesem loopt Kerksken
DESCRIPTION:
URL:https://a-r-s.be/event/ars-criterium-2024-de-bloesem-loopt-kerksken/
END:VEVENT
BEGIN:VEVENT
DTSTART;VALUE=DATE:20240420
DTEND;VALUE=DATE:20240421
DTSTAMP:20260420T025108
CREATED:20240327T160648Z
LAST-MODIFIED:20240327T162300Z
UID:2052-1713571200-1713657599@a-r-s.be
SUMMARY:ARS criterium2024 41ste editie HYACINTENTRAIL 2024 Halle
DESCRIPTION:
URL:https://a-r-s.be/event/ars-criterium-41ste-editie-hyacintentrail-2024-halle/
END:VEVENT
BEGIN:VEVENT
DTSTART;VALUE=DATE:20240414
DTEND;VALUE=DATE:20240415
DTSTAMP:20260420T025108
CREATED:20240327T155843Z
LAST-MODIFIED:20240327T160001Z
UID:2049-1713052800-1713139199@a-r-s.be
SUMMARY:ARS criterium 2024 3de Geelster natuurloop Lede
DESCRIPTION:
URL:https://a-r-s.be/event/3de-geelster-natuurloop-lede/
END:VEVENT
BEGIN:VEVENT
DTSTART;VALUE=DATE:20240401
DTEND;VALUE=DATE:20240402
DTSTAMP:20260420T025108
CREATED:20240327T113351Z
LAST-MODIFIED:20240327T155219Z
UID:2043-1711929600-1712015999@a-r-s.be
SUMMARY:ARS criterium 2024  Molenjogging Roosdaal1 april 2024
DESCRIPTION:
URL:https://a-r-s.be/event/molenjogging-1-april-2025/
END:VEVENT
BEGIN:VEVENT
DTSTART;VALUE=DATE:20240330
DTEND;VALUE=DATE:20240331
DTSTAMP:20260420T025108
CREATED:20240314T185019Z
LAST-MODIFIED:20240327T113951Z
UID:2033-1711756800-1711843199@a-r-s.be
SUMMARY:ARS criterium 2024     VLN RUN Liedekerke bos 30 maart 2024
DESCRIPTION:
URL:https://a-r-s.be/event/vln-run-liedekerke-bos-30-maart-2023/
LOCATION:Liedekerke bos
END:VEVENT
BEGIN:VEVENT
DTSTART;VALUE=DATE:20240225
DTEND;VALUE=DATE:20240226
DTSTAMP:20260420T025108
CREATED:20240219T113724Z
LAST-MODIFIED:20240219T113724Z
UID:1999-1708819200-1708905599@a-r-s.be
SUMMARY:Dirk Martens Corrida
DESCRIPTION:
URL:https://a-r-s.be/event/dirk-martens-corrida/
LOCATION:Aalst
END:VEVENT
BEGIN:VEVENT
DTSTART;TZID=UTC:20240201T080000
DTEND;TZID=UTC:20240421T170000
DTSTAMP:20260420T025108
CREATED:20240201T131608Z
LAST-MODIFIED:20240201T131902Z
UID:1984-1706774400-1713718800@a-r-s.be
SUMMARY:Free 2 Run & Free 2 Walk
DESCRIPTION:Vanaf zondag 21 april om 9u (inschrijvingen)\, start 9u30 aan de Finse piste – Bellestraat 99 – 1790 Affligem (GRATIS)
URL:https://a-r-s.be/event/free-2-run-free-2-walk/
END:VEVENT
BEGIN:VEVENT
DTSTART;TZID=UTC:20230612T080000
DTEND;TZID=UTC:20230730T080000
DTSTAMP:20260420T025108
CREATED:20230612T150326Z
LAST-MODIFIED:20230612T154904Z
UID:1669-1686556800-1690704000@a-r-s.be
SUMMARY:Foto's Affligemloop
DESCRIPTION:
URL:https://a-r-s.be/event/fotos-affligemloop/
END:VEVENT
BEGIN:VEVENT
DTSTART;VALUE=DATE:20230326
DTEND;VALUE=DATE:20230327
DTSTAMP:20260420T025108
CREATED:20230302T085620Z
LAST-MODIFIED:20230303T171401Z
UID:948-1679788800-1679875199@a-r-s.be
SUMMARY:Free 2 Run & Free 2 Walk
DESCRIPTION:Vanaf zondag 26 maart 2023 \nInschrijvingen: 9u-9u30 \nLocatie: Foyer cultuurzaal Sanderus \nDeelname gratis
URL:https://a-r-s.be/event/free-to-run-free-to-walk/
LOCATION:Gemeentelijke Cultuurzaal\, Bellestraat 99\, Affligem\, 1770\, Belgium
END:VEVENT
END:VCALENDAR