BEGIN:VCALENDAR
VERSION:2.0
PRODID:-//Affligemse Recreatiesporters - ECPv6.15.20//NONSGML v1.0//EN
CALSCALE:GREGORIAN
METHOD:PUBLISH
X-WR-CALNAME:Affligemse Recreatiesporters
X-ORIGINAL-URL:https://a-r-s.be
X-WR-CALDESC:Events voor Affligemse Recreatiesporters
REFRESH-INTERVAL;VALUE=DURATION:PT1H
X-Robots-Tag:noindex
X-PUBLISHED-TTL:PT1H
BEGIN:VTIMEZONE
TZID:UTC
BEGIN:STANDARD
TZOFFSETFROM:+0000
TZOFFSETTO:+0000
TZNAME:UTC
DTSTART:20230101T000000
END:STANDARD
END:VTIMEZONE
BEGIN:VEVENT
DTSTART;TZID=UTC:20241012T120000
DTEND;TZID=UTC:20241012T213000
DTSTAMP:20260420T170752
CREATED:20240912T091951Z
LAST-MODIFIED:20240912T092149Z
UID:2340-1728734400-1728768600@a-r-s.be
SUMMARY:Spaghettislag 2024
DESCRIPTION:Beste leden en sympathisanten\, \nIedereen van harte welkom op onze spaghettislag op zaterdag 12 oktober 2024.
URL:https://a-r-s.be/event/spaghettislag-2024/
LOCATION:Parochiezaal Essene\, Assestraat 2\, Affligem\, 1790\, Belgium
END:VEVENT
END:VCALENDAR