BEGIN:VCALENDAR
VERSION:2.0
PRODID:-//Affligemse Recreatiesporters - ECPv6.15.20//NONSGML v1.0//EN
CALSCALE:GREGORIAN
METHOD:PUBLISH
X-ORIGINAL-URL:https://a-r-s.be
X-WR-CALDESC:Events voor Affligemse Recreatiesporters
REFRESH-INTERVAL;VALUE=DURATION:PT1H
X-Robots-Tag:noindex
X-PUBLISHED-TTL:PT1H
BEGIN:VTIMEZONE
TZID:UTC
BEGIN:STANDARD
TZOFFSETFROM:+0000
TZOFFSETTO:+0000
TZNAME:UTC
DTSTART:20240101T000000
END:STANDARD
END:VTIMEZONE
BEGIN:VEVENT
DTSTART;VALUE=DATE:20250601
DTEND;VALUE=DATE:20250602
DTSTAMP:20260420T052754
CREATED:20250519T112836Z
LAST-MODIFIED:20250519T112836Z
UID:2767-1748736000-1748822399@a-r-s.be
SUMMARY:ARS CRITERIUM FALUINTJES JOGGING
DESCRIPTION:
URL:https://a-r-s.be/event/ars-criterium-faluintjes-jogging/
END:VEVENT
BEGIN:VEVENT
DTSTART;VALUE=DATE:20250607
DTEND;VALUE=DATE:20250608
DTSTAMP:20260420T052754
CREATED:20250519T113452Z
LAST-MODIFIED:20250519T120029Z
UID:2769-1749254400-1749340799@a-r-s.be
SUMMARY:ARS CRITERUIM  JOGGING T'HOL OP
DESCRIPTION:
URL:https://a-r-s.be/event/ars-criteruim-jogging-thol-op/
END:VEVENT
BEGIN:VEVENT
DTSTART;TZID=UTC:20250615T133000
DTEND;TZID=UTC:20250615T170000
DTSTAMP:20260420T052754
CREATED:20250420T191007Z
LAST-MODIFIED:20250615T095431Z
UID:2717-1749994200-1750006800@a-r-s.be
SUMMARY:13de Affligemloop 2025
DESCRIPTION:De Affligemse recreatiesporters nodigen jullie uit op de 13de Affligemloop! \nEr zijn geen voorinschrijvingen. \nEr zal een springkasteel zijn voor de kleinsten met dank aan CM. \n  \nHieronder kan u de routes vinden \n(klik op de afbeeldingen voor een gedetailleerde weergave) \nDe route voor de 5km: \n \nDe route voor de 7km en de 14km (14km = 2 keer de 7 km): \n \nDe route voor wandeling: \n \n 
URL:https://a-r-s.be/event/13de-affligemloop-2025/
LOCATION:Gemeentelijke Cultuurzaal\, Bellestraat 99\, Affligem\, 1770\, Belgium
END:VEVENT
BEGIN:VEVENT
DTSTART;VALUE=DATE:20250621
DTEND;VALUE=DATE:20250622
DTSTAMP:20260420T052754
CREATED:20250611T065201Z
LAST-MODIFIED:20250611T065426Z
UID:2801-1750464000-1750550399@a-r-s.be
SUMMARY:ARS CRITERIUM ACHILLES NATUURLOOP
DESCRIPTION:
URL:https://a-r-s.be/event/ars-criterium-achilles-natuurloop/
END:VEVENT
BEGIN:VEVENT
DTSTART;VALUE=DATE:20250627
DTEND;VALUE=DATE:20250628
DTSTAMP:20260420T052754
CREATED:20250519T115515Z
LAST-MODIFIED:20250519T115515Z
UID:2771-1750982400-1751068799@a-r-s.be
SUMMARY:ARS CRITERIUM JOGGING RELEGEM
DESCRIPTION:
URL:https://a-r-s.be/event/ars-criterium-jogging-relegem/
END:VEVENT
END:VCALENDAR