BEGIN:VCALENDAR
VERSION:2.0
PRODID:-//Affligemse Recreatiesporters - ECPv6.15.20//NONSGML v1.0//EN
CALSCALE:GREGORIAN
METHOD:PUBLISH
X-WR-CALNAME:Affligemse Recreatiesporters
X-ORIGINAL-URL:https://a-r-s.be
X-WR-CALDESC:Events voor Affligemse Recreatiesporters
REFRESH-INTERVAL;VALUE=DURATION:PT1H
X-Robots-Tag:noindex
X-PUBLISHED-TTL:PT1H
BEGIN:VTIMEZONE
TZID:UTC
BEGIN:STANDARD
TZOFFSETFROM:+0000
TZOFFSETTO:+0000
TZNAME:UTC
DTSTART:20240101T000000
END:STANDARD
END:VTIMEZONE
BEGIN:VEVENT
DTSTART;TZID=UTC:20250705T080000
DTEND;TZID=UTC:20250705T170000
DTSTAMP:20260420T034815
CREATED:20250611T065955Z
LAST-MODIFIED:20250611T065955Z
UID:2804-1751702400-1751734800@a-r-s.be
SUMMARY:ARS CRITERIUM 29e GULDENSPORENJOGGING
DESCRIPTION:
URL:https://a-r-s.be/event/ars-criterium-29e-guldensporenjogging/
END:VEVENT
BEGIN:VEVENT
DTSTART;VALUE=DATE:20250721
DTEND;VALUE=DATE:20250722
DTSTAMP:20260420T034815
CREATED:20250623T140158Z
LAST-MODIFIED:20250630T202458Z
UID:3098-1753056000-1753142399@a-r-s.be
SUMMARY:ARS CRITERIUM 45 ste SCHELDE EN DENDERJOGGING
DESCRIPTION:
URL:https://a-r-s.be/event/arscriterium-45-ste-schelde-en-denderjogging/
END:VEVENT
BEGIN:VEVENT
DTSTART;VALUE=DATE:20250726
DTEND;VALUE=DATE:20250727
DTSTAMP:20260420T034815
CREATED:20250630T202132Z
LAST-MODIFIED:20250630T202132Z
UID:3107-1753488000-1753574399@a-r-s.be
SUMMARY:ARS CRITERIUM  ULRIKSE 10
DESCRIPTION:
URL:https://a-r-s.be/event/ars-criterium-ulrikse-10-2/
LOCATION:Sint Ulriks Kapelle
END:VEVENT
BEGIN:VEVENT
DTSTART;VALUE=DATE:20250727
DTEND;VALUE=DATE:20250728
DTSTAMP:20260420T034815
CREATED:20250630T203633Z
LAST-MODIFIED:20250630T203633Z
UID:3112-1753574400-1753660799@a-r-s.be
SUMMARY:ARS CRITERIUM  HEIDELOOP LONDERZEEL
DESCRIPTION:
URL:https://a-r-s.be/event/ars-criterium-heideloop-londerzeel-2/
END:VEVENT
END:VCALENDAR