BEGIN:VCALENDAR
VERSION:2.0
PRODID:-//Affligemse Recreatiesporters - ECPv6.15.20//NONSGML v1.0//EN
CALSCALE:GREGORIAN
METHOD:PUBLISH
X-WR-CALNAME:Affligemse Recreatiesporters
X-ORIGINAL-URL:https://a-r-s.be
X-WR-CALDESC:Events voor Affligemse Recreatiesporters
REFRESH-INTERVAL;VALUE=DURATION:PT1H
X-Robots-Tag:noindex
X-PUBLISHED-TTL:PT1H
BEGIN:VTIMEZONE
TZID:UTC
BEGIN:STANDARD
TZOFFSETFROM:+0000
TZOFFSETTO:+0000
TZNAME:UTC
DTSTART:20250101T000000
END:STANDARD
END:VTIMEZONE
BEGIN:VEVENT
DTSTART;TZID=UTC:20260118T080000
DTEND;TZID=UTC:20260118T170000
DTSTAMP:20260419T195309
CREATED:20260106T165159Z
LAST-MODIFIED:20260106T172718Z
UID:3234-1768723200-1768755600@a-r-s.be
SUMMARY:Sint-Antonius Wandeling 2026 (met inschrijving)
DESCRIPTION:Sint-Antonius wandeling (5km) op zondag 18 januari 2026 om 8u.\nVertrek aan de parochiezaal Essene.\n2 koffiekoeken en koffie na de wandeling.\n5 euro (over te schrijven op het rekeningnummer BE71 9790 8834 4369). \nSchrijf je ten laatste op 15 januari hieronder in voor de Sint-Antonius wandeling op 18/01/2026. Klik op “Verzenden” om je inschrijving te voltooien. \n\n\n  \n\n\n\nJe voornaam\nJe achternaam\nJe e-mailadres\nTelefoonnummer
URL:https://a-r-s.be/event/sint-antonius-wandeling-2026-met-inschrijving/
LOCATION:Parochiezaal Essene\, Assestraat 2\, Affligem\, 1790\, Belgium
END:VEVENT
END:VCALENDAR