BEGIN:VCALENDAR
VERSION:2.0
PRODID:-//Affligemse Recreatiesporters - ECPv6.15.20//NONSGML v1.0//EN
CALSCALE:GREGORIAN
METHOD:PUBLISH
X-ORIGINAL-URL:https://a-r-s.be
X-WR-CALDESC:Events voor Affligemse Recreatiesporters
REFRESH-INTERVAL;VALUE=DURATION:PT1H
X-Robots-Tag:noindex
X-PUBLISHED-TTL:PT1H
BEGIN:VTIMEZONE
TZID:UTC
BEGIN:STANDARD
TZOFFSETFROM:+0000
TZOFFSETTO:+0000
TZNAME:UTC
DTSTART:20250101T000000
END:STANDARD
END:VTIMEZONE
BEGIN:VEVENT
DTSTART;TZID=UTC:20260329T093000
DTEND;TZID=UTC:20260329T113000
DTSTAMP:20260419T165536
CREATED:20251229T101759Z
LAST-MODIFIED:20251229T101759Z
UID:3214-1774776600-1774783800@a-r-s.be
SUMMARY:Start Free 2 Run 2026
DESCRIPTION:Naar jaarlijkse traditie organiseert ARS gedurende 10 weken drie keer per week een Free 2 Run.\nDit op zondag (9u30)\, dinsdag (19u30) en donderdag (19u30). We vertrekken telkens aan de Cultuurzaal in Affligem.\nWe bieden voor elk wat wils. Zowel beginners als gevorderden zijn bij ons aan het juiste adres.\nWe hebben drie verschillende groepen (telkens onder begeleiding): \nvan 0 naar 5km\nvan 5 naar 10km\nen 10km+ \nHou je liever van wandelen in het groen? Ook dan ben je bij ARS aan het juiste adres. We organiseren namelijk elke zondag geleide wandelingen door de Brabantse kouters en het Pajottenland. \nDit alles is volledig gratis (inclusief verzekering!). \nAarzel niet langer en schrijf je nu in via deze link: https://a-r-s.be/contact/
URL:https://a-r-s.be/event/start-free-2-run-2026/
LOCATION:Gemeentelijke Cultuurzaal\, Bellestraat 99\, Affligem\, 1770\, Belgium
END:VEVENT
END:VCALENDAR